BEGIN:VCALENDAR
VERSION:2.0
PRODID:-//Ponderosa Nature Resort - ECPv6.13.2.1//NONSGML v1.0//EN
CALSCALE:GREGORIAN
METHOD:PUBLISH
X-ORIGINAL-URL:https://ponderosaresort.ca
X-WR-CALDESC:Events for Ponderosa Nature Resort
REFRESH-INTERVAL;VALUE=DURATION:PT1H
X-Robots-Tag:noindex
X-PUBLISHED-TTL:PT1H
BEGIN:VTIMEZONE
TZID:UTC
BEGIN:STANDARD
TZOFFSETFROM:+0000
TZOFFSETTO:+0000
TZNAME:UTC
DTSTART:20250101T000000
END:STANDARD
END:VTIMEZONE
BEGIN:VTIMEZONE
TZID:America/Toronto
BEGIN:DAYLIGHT
TZOFFSETFROM:-0500
TZOFFSETTO:-0400
TZNAME:EDT
DTSTART:20250309T070000
END:DAYLIGHT
BEGIN:STANDARD
TZOFFSETFROM:-0400
TZOFFSETTO:-0500
TZNAME:EST
DTSTART:20251102T060000
END:STANDARD
END:VTIMEZONE
BEGIN:VEVENT
DTSTART;VALUE=DATE:20250503
DTEND;VALUE=DATE:20250504
DTSTAMP:20260423T184553
CREATED:20241216T232352Z
LAST-MODIFIED:20241216T232352Z
UID:1222-1746230400-1746316799@ponderosaresort.ca
SUMMARY:Latin Dance Lessons & Cinco de Mayo Dance
DESCRIPTION:
URL:https://ponderosaresort.ca/event/latin-dance-lessons-cinco-de-mayo-dance/
END:VEVENT
BEGIN:VEVENT
DTSTART;TZID=UTC:20250516T210000
DTEND;TZID=UTC:20250516T235900
DTSTAMP:20260423T184553
CREATED:20241216T232436Z
LAST-MODIFIED:20250504T145218Z
UID:1224-1747429200-1747439940@ponderosaresort.ca
SUMMARY:Karaoke
DESCRIPTION:
URL:https://ponderosaresort.ca/event/karaoke-20/
END:VEVENT
BEGIN:VEVENT
DTSTART;TZID=UTC:20250517T140000
DTEND;TZID=UTC:20250517T235900
DTSTAMP:20260423T184553
CREATED:20241216T232523Z
LAST-MODIFIED:20250504T145150Z
UID:1226-1747490400-1747526340@ponderosaresort.ca
SUMMARY:Polar Bear Dip
DESCRIPTION:
URL:https://ponderosaresort.ca/event/polar-bear-dip/
END:VEVENT
BEGIN:VEVENT
DTSTART;TZID=UTC:20250517T210000
DTEND;TZID=UTC:20250517T235900
DTSTAMP:20260423T184553
CREATED:20241216T232622Z
LAST-MODIFIED:20250504T145049Z
UID:1228-1747515600-1747526340@ponderosaresort.ca
SUMMARY:House Robe/PJ Dance
DESCRIPTION:
URL:https://ponderosaresort.ca/event/house-robe-pj-dance/
END:VEVENT
BEGIN:VEVENT
DTSTART;TZID=UTC:20250518T210000
DTEND;TZID=UTC:20250518T235900
DTSTAMP:20260423T184553
CREATED:20241216T232738Z
LAST-MODIFIED:20250504T145003Z
UID:1230-1747602000-1747612740@ponderosaresort.ca
SUMMARY:Live Band 'Orange Man'
DESCRIPTION:
URL:https://ponderosaresort.ca/event/live-band-orange-man-2/
END:VEVENT
BEGIN:VEVENT
DTSTART;TZID=UTC:20250524T210000
DTEND;TZID=UTC:20250524T235900
DTSTAMP:20260423T184553
CREATED:20241216T232951Z
LAST-MODIFIED:20250504T145355Z
UID:1232-1748120400-1748131140@ponderosaresort.ca
SUMMARY:British Invasion Dance
DESCRIPTION:
URL:https://ponderosaresort.ca/event/british-invasion-dance/
END:VEVENT
BEGIN:VEVENT
DTSTART;TZID=America/Toronto:20250531T180000
DTEND;TZID=America/Toronto:20250531T200000
DTSTAMP:20260423T184553
CREATED:20241216T233151Z
LAST-MODIFIED:20241216T233151Z
UID:1234-1748714400-1748721600@ponderosaresort.ca
SUMMARY:Kids Karaoke
DESCRIPTION:
URL:https://ponderosaresort.ca/event/kids-karaoke/
END:VEVENT
BEGIN:VEVENT
DTSTART;TZID=UTC:20250531T210000
DTEND;TZID=UTC:20250531T230000
DTSTAMP:20260423T184553
CREATED:20241216T233429Z
LAST-MODIFIED:20250504T144736Z
UID:1237-1748725200-1748732400@ponderosaresort.ca
SUMMARY:Karaoke Dance
DESCRIPTION:
URL:https://ponderosaresort.ca/event/karaoke-dance-7/
END:VEVENT
END:VCALENDAR