BEGIN:VCALENDAR
VERSION:2.0
PRODID:-//Ponderosa Nature Resort - ECPv6.13.2.1//NONSGML v1.0//EN
CALSCALE:GREGORIAN
METHOD:PUBLISH
X-WR-CALNAME:Ponderosa Nature Resort
X-ORIGINAL-URL:https://ponderosaresort.ca
X-WR-CALDESC:Events for Ponderosa Nature Resort
REFRESH-INTERVAL;VALUE=DURATION:PT1H
X-Robots-Tag:noindex
X-PUBLISHED-TTL:PT1H
BEGIN:VTIMEZONE
TZID:UTC
BEGIN:STANDARD
TZOFFSETFROM:+0000
TZOFFSETTO:+0000
TZNAME:UTC
DTSTART:20250101T000000
END:STANDARD
END:VTIMEZONE
BEGIN:VEVENT
DTSTART;VALUE=DATE:20250301
DTEND;VALUE=DATE:20250302
DTSTAMP:20260423T214204
CREATED:20241030T145034Z
LAST-MODIFIED:20241030T145034Z
UID:1196-1740787200-1740873599@ponderosaresort.ca
SUMMARY:Mardi Gras Dance
DESCRIPTION:
URL:https://ponderosaresort.ca/event/mardi-gras-dance/
END:VEVENT
BEGIN:VEVENT
DTSTART;VALUE=DATE:20250308
DTEND;VALUE=DATE:20250309
DTSTAMP:20260423T214204
CREATED:20241030T145156Z
LAST-MODIFIED:20241030T145156Z
UID:1198-1741392000-1741478399@ponderosaresort.ca
SUMMARY:Women's Day Celebration
DESCRIPTION:Including Women of History Trivia
URL:https://ponderosaresort.ca/event/womens-day-celebration/
END:VEVENT
BEGIN:VEVENT
DTSTART;VALUE=DATE:20250314
DTEND;VALUE=DATE:20250315
DTSTAMP:20260423T214205
CREATED:20241030T145301Z
LAST-MODIFIED:20241030T145301Z
UID:1200-1741910400-1741996799@ponderosaresort.ca
SUMMARY:Karaoke
DESCRIPTION:
URL:https://ponderosaresort.ca/event/karaoke-18/
END:VEVENT
BEGIN:VEVENT
DTSTART;VALUE=DATE:20250315
DTEND;VALUE=DATE:20250316
DTSTAMP:20260423T214205
CREATED:20241030T145338Z
LAST-MODIFIED:20241030T145338Z
UID:1202-1741996800-1742083199@ponderosaresort.ca
SUMMARY:St. Patrick's Day Dance
DESCRIPTION:
URL:https://ponderosaresort.ca/event/st-patricks-day-dance-2/
END:VEVENT
BEGIN:VEVENT
DTSTART;VALUE=DATE:20250329
DTEND;VALUE=DATE:20250330
DTSTAMP:20260423T214205
CREATED:20241030T145433Z
LAST-MODIFIED:20241030T145433Z
UID:1204-1743206400-1743292799@ponderosaresort.ca
SUMMARY:Games Night at the Clubhouse
DESCRIPTION:
URL:https://ponderosaresort.ca/event/games-night-at-the-clubhouse/
END:VEVENT
END:VCALENDAR