BEGIN:VCALENDAR
VERSION:2.0
PRODID:-//Ponderosa Nature Resort - ECPv6.13.2.1//NONSGML v1.0//EN
CALSCALE:GREGORIAN
METHOD:PUBLISH
X-WR-CALNAME:Ponderosa Nature Resort
X-ORIGINAL-URL:https://ponderosaresort.ca
X-WR-CALDESC:Events for Ponderosa Nature Resort
REFRESH-INTERVAL;VALUE=DURATION:PT1H
X-Robots-Tag:noindex
X-PUBLISHED-TTL:PT1H
BEGIN:VTIMEZONE
TZID:UTC
BEGIN:STANDARD
TZOFFSETFROM:+0000
TZOFFSETTO:+0000
TZNAME:UTC
DTSTART:20240101T000000
END:STANDARD
END:VTIMEZONE
BEGIN:VEVENT
DTSTART;VALUE=DATE:20240802
DTEND;VALUE=DATE:20240803
DTSTAMP:20260424T091541
CREATED:20231114T203903Z
LAST-MODIFIED:20231114T203903Z
UID:965-1722556800-1722643199@ponderosaresort.ca
SUMMARY:Karaoke
DESCRIPTION:
URL:https://ponderosaresort.ca/event/karaoke-10/
END:VEVENT
BEGIN:VEVENT
DTSTART;VALUE=DATE:20240803
DTEND;VALUE=DATE:20240804
DTSTAMP:20260424T091541
CREATED:20231114T203932Z
LAST-MODIFIED:20231114T203932Z
UID:967-1722643200-1722729599@ponderosaresort.ca
SUMMARY:Pickleball
DESCRIPTION:
URL:https://ponderosaresort.ca/event/pickleball/
END:VEVENT
BEGIN:VEVENT
DTSTART;VALUE=DATE:20240803
DTEND;VALUE=DATE:20240804
DTSTAMP:20260424T091541
CREATED:20231114T203957Z
LAST-MODIFIED:20231114T203957Z
UID:969-1722643200-1722729599@ponderosaresort.ca
SUMMARY:Hollywood Night
DESCRIPTION:
URL:https://ponderosaresort.ca/event/hollywood-night/
END:VEVENT
BEGIN:VEVENT
DTSTART;VALUE=DATE:20240804
DTEND;VALUE=DATE:20240805
DTSTAMP:20260424T091541
CREATED:20231114T204028Z
LAST-MODIFIED:20231114T204028Z
UID:971-1722729600-1722815999@ponderosaresort.ca
SUMMARY:Live Band - Kat House
DESCRIPTION:
URL:https://ponderosaresort.ca/event/live-band-kat-house/
END:VEVENT
BEGIN:VEVENT
DTSTART;VALUE=DATE:20240809
DTEND;VALUE=DATE:20240810
DTSTAMP:20260424T091541
CREATED:20231114T204053Z
LAST-MODIFIED:20231114T204053Z
UID:973-1723161600-1723247999@ponderosaresort.ca
SUMMARY:Karaoke
DESCRIPTION:
URL:https://ponderosaresort.ca/event/karaoke-11/
END:VEVENT
BEGIN:VEVENT
DTSTART;VALUE=DATE:20240810
DTEND;VALUE=DATE:20240811
DTSTAMP:20260424T091541
CREATED:20231114T204132Z
LAST-MODIFIED:20231114T204132Z
UID:975-1723248000-1723334399@ponderosaresort.ca
SUMMARY:Golf Cart Poker Run
DESCRIPTION:
URL:https://ponderosaresort.ca/event/golf-cart-poker-run/
END:VEVENT
BEGIN:VEVENT
DTSTART;VALUE=DATE:20240810
DTEND;VALUE=DATE:20240811
DTSTAMP:20260424T091541
CREATED:20231114T204158Z
LAST-MODIFIED:20231114T204158Z
UID:977-1723248000-1723334399@ponderosaresort.ca
SUMMARY:Boogie Night
DESCRIPTION:
URL:https://ponderosaresort.ca/event/boogie-night/
END:VEVENT
BEGIN:VEVENT
DTSTART;VALUE=DATE:20240816
DTEND;VALUE=DATE:20240817
DTSTAMP:20260424T091541
CREATED:20231114T204220Z
LAST-MODIFIED:20231114T204220Z
UID:979-1723766400-1723852799@ponderosaresort.ca
SUMMARY:Karaoke
DESCRIPTION:
URL:https://ponderosaresort.ca/event/karaoke-12/
END:VEVENT
BEGIN:VEVENT
DTSTART;VALUE=DATE:20240817
DTEND;VALUE=DATE:20240818
DTSTAMP:20260424T091541
CREATED:20231114T204308Z
LAST-MODIFIED:20231114T204308Z
UID:981-1723852800-1723939199@ponderosaresort.ca
SUMMARY:Dance Under the Sea
DESCRIPTION:
URL:https://ponderosaresort.ca/event/dance-under-the-sea/
END:VEVENT
BEGIN:VEVENT
DTSTART;VALUE=DATE:20240823
DTEND;VALUE=DATE:20240824
DTSTAMP:20260424T091541
CREATED:20231114T204339Z
LAST-MODIFIED:20231114T204339Z
UID:983-1724371200-1724457599@ponderosaresort.ca
SUMMARY:Karaoke
DESCRIPTION:
URL:https://ponderosaresort.ca/event/karaoke-13/
END:VEVENT
BEGIN:VEVENT
DTSTART;VALUE=DATE:20240824
DTEND;VALUE=DATE:20240825
DTSTAMP:20260424T091541
CREATED:20231114T204409Z
LAST-MODIFIED:20231114T204409Z
UID:985-1724457600-1724543999@ponderosaresort.ca
SUMMARY:LED - Black Light Dance
DESCRIPTION:
URL:https://ponderosaresort.ca/event/led-black-light-dance/
END:VEVENT
BEGIN:VEVENT
DTSTART;VALUE=DATE:20240830
DTEND;VALUE=DATE:20240831
DTSTAMP:20260424T091541
CREATED:20231114T204454Z
LAST-MODIFIED:20231114T204454Z
UID:987-1724976000-1725062399@ponderosaresort.ca
SUMMARY:Karaoke
DESCRIPTION:
URL:https://ponderosaresort.ca/event/karaoke-14/
END:VEVENT
BEGIN:VEVENT
DTSTART;VALUE=DATE:20240831
DTEND;VALUE=DATE:20240901
DTSTAMP:20260424T091541
CREATED:20231114T204518Z
LAST-MODIFIED:20231114T204518Z
UID:989-1725062400-1725148799@ponderosaresort.ca
SUMMARY:Corn Hole
DESCRIPTION:
URL:https://ponderosaresort.ca/event/corn-hole/
END:VEVENT
BEGIN:VEVENT
DTSTART;VALUE=DATE:20240831
DTEND;VALUE=DATE:20240901
DTSTAMP:20260424T091541
CREATED:20231114T204545Z
LAST-MODIFIED:20231114T204545Z
UID:991-1725062400-1725148799@ponderosaresort.ca
SUMMARY:Leather & Lace Dance
DESCRIPTION:
URL:https://ponderosaresort.ca/event/leather-lace-dance/
END:VEVENT
END:VCALENDAR