BEGIN:VCALENDAR
VERSION:2.0
PRODID:-//Ponderosa Nature Resort - ECPv6.13.2.1//NONSGML v1.0//EN
CALSCALE:GREGORIAN
METHOD:PUBLISH
X-WR-CALNAME:Ponderosa Nature Resort
X-ORIGINAL-URL:https://ponderosaresort.ca
X-WR-CALDESC:Events for Ponderosa Nature Resort
REFRESH-INTERVAL;VALUE=DURATION:PT1H
X-Robots-Tag:noindex
X-PUBLISHED-TTL:PT1H
BEGIN:VTIMEZONE
TZID:UTC
BEGIN:STANDARD
TZOFFSETFROM:+0000
TZOFFSETTO:+0000
TZNAME:UTC
DTSTART:20240101T000000
END:STANDARD
END:VTIMEZONE
BEGIN:VEVENT
DTSTART;VALUE=DATE:20240701
DTEND;VALUE=DATE:20240702
DTSTAMP:20260424T110343
CREATED:20231114T202814Z
LAST-MODIFIED:20231114T202904Z
UID:943-1719792000-1719878399@ponderosaresort.ca
SUMMARY:Karaoke Dance Party
DESCRIPTION:After fireworks.
URL:https://ponderosaresort.ca/event/fireworks/
END:VEVENT
BEGIN:VEVENT
DTSTART;TZID=UTC:20240701T213000
DTEND;TZID=UTC:20240701T220000
DTSTAMP:20260424T110343
CREATED:20231114T203147Z
LAST-MODIFIED:20231114T203147Z
UID:951-1719869400-1719871200@ponderosaresort.ca
SUMMARY:Fireworks
DESCRIPTION:
URL:https://ponderosaresort.ca/event/fireworks-2/
END:VEVENT
BEGIN:VEVENT
DTSTART;VALUE=DATE:20240705
DTEND;VALUE=DATE:20240706
DTSTAMP:20260424T110343
CREATED:20231114T203051Z
LAST-MODIFIED:20231114T203051Z
UID:949-1720137600-1720223999@ponderosaresort.ca
SUMMARY:Karaoke
DESCRIPTION:
URL:https://ponderosaresort.ca/event/karaoke-6/
END:VEVENT
BEGIN:VEVENT
DTSTART;VALUE=DATE:20240706
DTEND;VALUE=DATE:20240707
DTSTAMP:20260424T110343
CREATED:20231114T202932Z
LAST-MODIFIED:20231114T203008Z
UID:946-1720224000-1720310399@ponderosaresort.ca
SUMMARY:Silent Dance
DESCRIPTION:
URL:https://ponderosaresort.ca/event/karaoke-5/
END:VEVENT
BEGIN:VEVENT
DTSTART;VALUE=DATE:20240712
DTEND;VALUE=DATE:20240713
DTSTAMP:20260424T110343
CREATED:20231114T203225Z
LAST-MODIFIED:20231114T203225Z
UID:953-1720742400-1720828799@ponderosaresort.ca
SUMMARY:Karaoke
DESCRIPTION:
URL:https://ponderosaresort.ca/event/karaoke-7/
END:VEVENT
BEGIN:VEVENT
DTSTART;VALUE=DATE:20240713
DTEND;VALUE=DATE:20240714
DTSTAMP:20260424T110343
CREATED:20231114T203344Z
LAST-MODIFIED:20231114T203344Z
UID:955-1720828800-1720915199@ponderosaresort.ca
SUMMARY:Bare As You Dare
DESCRIPTION:
URL:https://ponderosaresort.ca/event/bare-as-you-dare/
END:VEVENT
BEGIN:VEVENT
DTSTART;VALUE=DATE:20240719
DTEND;VALUE=DATE:20240720
DTSTAMP:20260424T110343
CREATED:20231114T203426Z
LAST-MODIFIED:20231114T203426Z
UID:957-1721347200-1721433599@ponderosaresort.ca
SUMMARY:Karaoke
DESCRIPTION:
URL:https://ponderosaresort.ca/event/karaoke-8/
END:VEVENT
BEGIN:VEVENT
DTSTART;VALUE=DATE:20240726
DTEND;VALUE=DATE:20240727
DTSTAMP:20260424T110343
CREATED:20231114T203603Z
LAST-MODIFIED:20231114T203603Z
UID:961-1721952000-1722038399@ponderosaresort.ca
SUMMARY:Karaoke
DESCRIPTION:
URL:https://ponderosaresort.ca/event/karaoke-9/
END:VEVENT
BEGIN:VEVENT
DTSTART;VALUE=DATE:20240727
DTEND;VALUE=DATE:20240728
DTSTAMP:20260424T110343
CREATED:20231114T203703Z
LAST-MODIFIED:20231114T203703Z
UID:963-1722038400-1722124799@ponderosaresort.ca
SUMMARY:Fifties Dance-Saddle Shoes & Poodle Skirts
DESCRIPTION:
URL:https://ponderosaresort.ca/event/fifties-dance-saddle-shoes-poodle-skirts/
END:VEVENT
END:VCALENDAR