BEGIN:VCALENDAR
VERSION:2.0
PRODID:-//Ponderosa Nature Resort - ECPv6.13.2.1//NONSGML v1.0//EN
CALSCALE:GREGORIAN
METHOD:PUBLISH
X-ORIGINAL-URL:https://ponderosaresort.ca
X-WR-CALDESC:Events for Ponderosa Nature Resort
REFRESH-INTERVAL;VALUE=DURATION:PT1H
X-Robots-Tag:noindex
X-PUBLISHED-TTL:PT1H
BEGIN:VTIMEZONE
TZID:UTC
BEGIN:STANDARD
TZOFFSETFROM:+0000
TZOFFSETTO:+0000
TZNAME:UTC
DTSTART:20240101T000000
END:STANDARD
END:VTIMEZONE
BEGIN:VEVENT
DTSTART;VALUE=DATE:20240601
DTEND;VALUE=DATE:20240602
DTSTAMP:20260424T125000
CREATED:20231016T184726Z
LAST-MODIFIED:20231016T184726Z
UID:916-1717200000-1717286399@ponderosaresort.ca
SUMMARY:Nerd Dance
DESCRIPTION:
URL:https://ponderosaresort.ca/event/nerd-dance/
END:VEVENT
BEGIN:VEVENT
DTSTART;VALUE=DATE:20240607
DTEND;VALUE=DATE:20240608
DTSTAMP:20260424T125000
CREATED:20231016T184753Z
LAST-MODIFIED:20231016T184753Z
UID:918-1717718400-1717804799@ponderosaresort.ca
SUMMARY:Karaoke
DESCRIPTION:
URL:https://ponderosaresort.ca/event/karaoke-2/
END:VEVENT
BEGIN:VEVENT
DTSTART;VALUE=DATE:20240608
DTEND;VALUE=DATE:20240609
DTSTAMP:20260424T125000
CREATED:20231016T184822Z
LAST-MODIFIED:20231016T184822Z
UID:920-1717804800-1717891199@ponderosaresort.ca
SUMMARY:Dancing Queen
DESCRIPTION:
URL:https://ponderosaresort.ca/event/dancing-queen/
END:VEVENT
BEGIN:VEVENT
DTSTART;VALUE=DATE:20240615
DTEND;VALUE=DATE:20240616
DTSTAMP:20260424T125000
CREATED:20231016T184856Z
LAST-MODIFIED:20231016T190226Z
UID:922-1718409600-1718495999@ponderosaresort.ca
SUMMARY:Karaoke Dance
DESCRIPTION:
URL:https://ponderosaresort.ca/event/karaoke-dance-4/
END:VEVENT
BEGIN:VEVENT
DTSTART;VALUE=DATE:20240621
DTEND;VALUE=DATE:20240622
DTSTAMP:20260424T125000
CREATED:20231016T190148Z
LAST-MODIFIED:20231016T190148Z
UID:924-1718928000-1719014399@ponderosaresort.ca
SUMMARY:Karaoke
DESCRIPTION:
URL:https://ponderosaresort.ca/event/karaoke-3/
END:VEVENT
BEGIN:VEVENT
DTSTART;VALUE=DATE:20240622
DTEND;VALUE=DATE:20240623
DTSTAMP:20260424T125000
CREATED:20231016T190335Z
LAST-MODIFIED:20231016T190335Z
UID:926-1719014400-1719100799@ponderosaresort.ca
SUMMARY:Arabian Night
DESCRIPTION:
URL:https://ponderosaresort.ca/event/arabian-night/
END:VEVENT
BEGIN:VEVENT
DTSTART;VALUE=DATE:20240628
DTEND;VALUE=DATE:20240629
DTSTAMP:20260424T125000
CREATED:20231016T190408Z
LAST-MODIFIED:20231016T190408Z
UID:928-1719532800-1719619199@ponderosaresort.ca
SUMMARY:Karaoke
DESCRIPTION:
URL:https://ponderosaresort.ca/event/karaoke-4/
END:VEVENT
BEGIN:VEVENT
DTSTART;VALUE=DATE:20240629
DTEND;VALUE=DATE:20240630
DTSTAMP:20260424T125000
CREATED:20231016T190444Z
LAST-MODIFIED:20231016T190444Z
UID:930-1719619200-1719705599@ponderosaresort.ca
SUMMARY:Pentaque
DESCRIPTION:
URL:https://ponderosaresort.ca/event/pentaque/
END:VEVENT
BEGIN:VEVENT
DTSTART;VALUE=DATE:20240629
DTEND;VALUE=DATE:20240630
DTSTAMP:20260424T125000
CREATED:20231016T190527Z
LAST-MODIFIED:20231016T190527Z
UID:932-1719619200-1719705599@ponderosaresort.ca
SUMMARY:Dance Canadian
DESCRIPTION:
URL:https://ponderosaresort.ca/event/dance-canadian/
END:VEVENT
BEGIN:VEVENT
DTSTART;VALUE=DATE:20240630
DTEND;VALUE=DATE:20240701
DTSTAMP:20260424T125000
CREATED:20231016T190608Z
LAST-MODIFIED:20231016T190608Z
UID:934-1719705600-1719791999@ponderosaresort.ca
SUMMARY:Live Band (Thunderstruck)
DESCRIPTION:
URL:https://ponderosaresort.ca/event/live-band-thunderstruck/
END:VEVENT
END:VCALENDAR