BEGIN:VCALENDAR
VERSION:2.0
PRODID:-//Ponderosa Nature Resort - ECPv6.13.2.1//NONSGML v1.0//EN
CALSCALE:GREGORIAN
METHOD:PUBLISH
X-ORIGINAL-URL:https://ponderosaresort.ca
X-WR-CALDESC:Events for Ponderosa Nature Resort
REFRESH-INTERVAL;VALUE=DURATION:PT1H
X-Robots-Tag:noindex
X-PUBLISHED-TTL:PT1H
BEGIN:VTIMEZONE
TZID:UTC
BEGIN:STANDARD
TZOFFSETFROM:+0000
TZOFFSETTO:+0000
TZNAME:UTC
DTSTART:20240101T000000
END:STANDARD
END:VTIMEZONE
BEGIN:VEVENT
DTSTART;VALUE=DATE:20240504
DTEND;VALUE=DATE:20240505
DTSTAMP:20260424T143806
CREATED:20231010T162847Z
LAST-MODIFIED:20231010T162847Z
UID:887-1714780800-1714867199@ponderosaresort.ca
SUMMARY:Cinco de Mayo Latin Dance
DESCRIPTION:
URL:https://ponderosaresort.ca/event/cinco-de-mayo-latin-dance/
END:VEVENT
BEGIN:VEVENT
DTSTART;VALUE=DATE:20240517
DTEND;VALUE=DATE:20240518
DTSTAMP:20260424T143806
CREATED:20231010T162924Z
LAST-MODIFIED:20231010T162924Z
UID:889-1715904000-1715990399@ponderosaresort.ca
SUMMARY:Karaoke
DESCRIPTION:
URL:https://ponderosaresort.ca/event/karaoke/
END:VEVENT
BEGIN:VEVENT
DTSTART;VALUE=DATE:20240518
DTEND;VALUE=DATE:20240519
DTSTAMP:20260424T143806
CREATED:20231010T163015Z
LAST-MODIFIED:20231010T163015Z
UID:891-1715990400-1716076799@ponderosaresort.ca
SUMMARY:Medieval Times Dinner & Dance
DESCRIPTION:
URL:https://ponderosaresort.ca/event/medieval-times-dinner-dance/
END:VEVENT
BEGIN:VEVENT
DTSTART;VALUE=DATE:20240519
DTEND;VALUE=DATE:20240520
DTSTAMP:20260424T143806
CREATED:20231010T163103Z
LAST-MODIFIED:20231010T163103Z
UID:893-1716076800-1716163199@ponderosaresort.ca
SUMMARY:Live Band-'Orange Man'
DESCRIPTION:
URL:https://ponderosaresort.ca/event/live-band-orange-man/
END:VEVENT
BEGIN:VEVENT
DTSTART;VALUE=DATE:20240525
DTEND;VALUE=DATE:20240526
DTSTAMP:20260424T143806
CREATED:20231010T163144Z
LAST-MODIFIED:20231010T163144Z
UID:895-1716595200-1716681599@ponderosaresort.ca
SUMMARY:Karaoke Dance
DESCRIPTION:
URL:https://ponderosaresort.ca/event/karaoke-dance-3/
END:VEVENT
END:VCALENDAR