BEGIN:VCALENDAR
VERSION:2.0
PRODID:-//Ponderosa Nature Resort - ECPv6.13.2.1//NONSGML v1.0//EN
CALSCALE:GREGORIAN
METHOD:PUBLISH
X-ORIGINAL-URL:https://ponderosaresort.ca
X-WR-CALDESC:Events for Ponderosa Nature Resort
REFRESH-INTERVAL;VALUE=DURATION:PT1H
X-Robots-Tag:noindex
X-PUBLISHED-TTL:PT1H
BEGIN:VTIMEZONE
TZID:UTC
BEGIN:STANDARD
TZOFFSETFROM:+0000
TZOFFSETTO:+0000
TZNAME:UTC
DTSTART:20240101T000000
END:STANDARD
END:VTIMEZONE
BEGIN:VEVENT
DTSTART;VALUE=DATE:20240210
DTEND;VALUE=DATE:20240211
DTSTAMP:20260424T195132
CREATED:20231010T162333Z
LAST-MODIFIED:20231010T162333Z
UID:877-1707523200-1707609599@ponderosaresort.ca
SUMMARY:Valentine's Red & White Dinner Dance
DESCRIPTION:Dinner and dance with your sweetheart or without
URL:https://ponderosaresort.ca/event/valentines-red-white-dinner-dance/
END:VEVENT
END:VCALENDAR