BEGIN:VCALENDAR
VERSION:2.0
PRODID:-//Ponderosa Nature Resort - ECPv6.13.2.1//NONSGML v1.0//EN
CALSCALE:GREGORIAN
METHOD:PUBLISH
X-ORIGINAL-URL:https://ponderosaresort.ca
X-WR-CALDESC:Events for Ponderosa Nature Resort
REFRESH-INTERVAL;VALUE=DURATION:PT1H
X-Robots-Tag:noindex
X-PUBLISHED-TTL:PT1H
BEGIN:VTIMEZONE
TZID:UTC
BEGIN:STANDARD
TZOFFSETFROM:+0000
TZOFFSETTO:+0000
TZNAME:UTC
DTSTART:20230101T000000
END:STANDARD
END:VTIMEZONE
BEGIN:VEVENT
DTSTART;TZID=UTC:20240701T140000
DTEND;TZID=UTC:20240701T140000
DTSTAMP:20260425T012640
CREATED:20231114T202652Z
LAST-MODIFIED:20231114T202652Z
UID:941-1719842400-1719842400@ponderosaresort.ca
SUMMARY:Canada Day - Golf Cart Parade
DESCRIPTION:
URL:https://ponderosaresort.ca/event/canada-day-golf-cart-parade/
END:VEVENT
BEGIN:VEVENT
DTSTART;VALUE=DATE:20231111
DTEND;VALUE=DATE:20231112
DTSTAMP:20260425T012640
CREATED:20231002T192925Z
LAST-MODIFIED:20231002T192925Z
UID:660-1699660800-1699747199@ponderosaresort.ca
SUMMARY:Karaoke & Dance
DESCRIPTION:Step into the spotlight and showcase your moves both on the dance floor and the mic at our exhilarating Karaoke Dance Party.
URL:https://ponderosaresort.ca/event/karaoke-dance/
END:VEVENT
BEGIN:VEVENT
DTSTART;VALUE=DATE:20231125
DTEND;VALUE=DATE:20231126
DTSTAMP:20260425T012640
CREATED:20231002T194139Z
LAST-MODIFIED:20231002T194139Z
UID:673-1700870400-1700956799@ponderosaresort.ca
SUMMARY:Bare as You Dare Dance
DESCRIPTION:Embrace the thrill and flaunt your fearless side at our ‘Bare As You Dare’ dance\, where confidence takes center stage
URL:https://ponderosaresort.ca/event/bare-as-you-dare-dance-2/
END:VEVENT
END:VCALENDAR