BEGIN:VCALENDAR
VERSION:2.0
PRODID:-//Ponderosa Nature Resort - ECPv6.13.2.1//NONSGML v1.0//EN
CALSCALE:GREGORIAN
METHOD:PUBLISH
X-WR-CALNAME:Ponderosa Nature Resort
X-ORIGINAL-URL:https://ponderosaresort.ca
X-WR-CALDESC:Events for Ponderosa Nature Resort
REFRESH-INTERVAL;VALUE=DURATION:PT1H
X-Robots-Tag:noindex
X-PUBLISHED-TTL:PT1H
BEGIN:VTIMEZONE
TZID:UTC
BEGIN:STANDARD
TZOFFSETFROM:+0000
TZOFFSETTO:+0000
TZNAME:UTC
DTSTART:20240101T000000
END:STANDARD
END:VTIMEZONE
BEGIN:VEVENT
DTSTART;TZID=UTC:20240701T140000
DTEND;TZID=UTC:20240701T140000
DTSTAMP:20260425T123833
CREATED:20231114T202652Z
LAST-MODIFIED:20231114T202652Z
UID:941-1719842400-1719842400@ponderosaresort.ca
SUMMARY:Canada Day - Golf Cart Parade
DESCRIPTION:
URL:https://ponderosaresort.ca/event/canada-day-golf-cart-parade/
END:VEVENT
END:VCALENDAR